BEGIN:VCALENDAR
VERSION:2.0
PRODID:-//ISB Zdrowie - ECPv6.15.15//NONSGML v1.0//EN
CALSCALE:GREGORIAN
METHOD:PUBLISH
X-ORIGINAL-URL:https://www.isbzdrowie.pl
X-WR-CALDESC:Wydarzenia dla ISB Zdrowie
REFRESH-INTERVAL;VALUE=DURATION:PT1H
X-Robots-Tag:noindex
X-PUBLISHED-TTL:PT1H
BEGIN:VTIMEZONE
TZID:Europe/Warsaw
BEGIN:DAYLIGHT
TZOFFSETFROM:+0100
TZOFFSETTO:+0200
TZNAME:CEST
DTSTART:20190331T010000
END:DAYLIGHT
BEGIN:STANDARD
TZOFFSETFROM:+0200
TZOFFSETTO:+0100
TZNAME:CET
DTSTART:20191027T010000
END:STANDARD
BEGIN:DAYLIGHT
TZOFFSETFROM:+0100
TZOFFSETTO:+0200
TZNAME:CEST
DTSTART:20200329T010000
END:DAYLIGHT
BEGIN:STANDARD
TZOFFSETFROM:+0200
TZOFFSETTO:+0100
TZNAME:CET
DTSTART:20201025T010000
END:STANDARD
BEGIN:DAYLIGHT
TZOFFSETFROM:+0100
TZOFFSETTO:+0200
TZNAME:CEST
DTSTART:20210328T010000
END:DAYLIGHT
BEGIN:STANDARD
TZOFFSETFROM:+0200
TZOFFSETTO:+0100
TZNAME:CET
DTSTART:20211031T010000
END:STANDARD
END:VTIMEZONE
BEGIN:VEVENT
DTSTART;TZID=Europe/Warsaw:20200116T083000
DTEND;TZID=Europe/Warsaw:20200116T162000
DTSTAMP:20260422T001815
CREATED:20191224T003119Z
LAST-MODIFIED:20191224T003119Z
UID:7742-1579163400-1579191600@www.isbzdrowie.pl
SUMMARY:Kongres Podatków i Rachunkowości
DESCRIPTION:Dziesiąta edycja Kongresu Podatków i Rachunkowości KPMG\, która odbędzie się w Warszawie \n  \nZgłoszenia będą przyjmowane do 3 stycznia 2020 roku
URL:https://www.isbzdrowie.pl/wydarzenie/kongres-podatkow-i-rachunkowosci/
LOCATION:Warszwa Hotel Hilton\, Warszawa\, Mazowieckie
CATEGORIES:Kongresy
ATTACH;FMTTYPE=image/png:https://www.isbzdrowie.pl/wp-content/uploads/2019/12/Kongres-Podatkow-i-Rachunkowosci-KPMG-2.png
ORGANIZER;CN="KPMG":MAILTO:marketing@kpmg.pl
END:VEVENT
END:VCALENDAR